BEGIN:VCALENDAR
VERSION:2.0
PRODID:-//Jalimei - ECPv5.2.1.1//NONSGML v1.0//EN
CALSCALE:GREGORIAN
METHOD:PUBLISH
X-WR-CALNAME:Jalimei
X-ORIGINAL-URL:https://staging.jalimei.de
X-WR-CALDESC:Veranstaltungen für Jalimei
BEGIN:VTIMEZONE
TZID:Europe/Berlin
BEGIN:DAYLIGHT
TZOFFSETFROM:+0100
TZOFFSETTO:+0200
TZNAME:CEST
DTSTART:20190331T010000
END:DAYLIGHT
BEGIN:STANDARD
TZOFFSETFROM:+0200
TZOFFSETTO:+0100
TZNAME:CET
DTSTART:20191027T010000
END:STANDARD
END:VTIMEZONE
BEGIN:VEVENT
DTSTART;TZID=Europe/Berlin:20190310T090000
DTEND;TZID=Europe/Berlin:20190310T170000
DTSTAMP:20260423T103159
CREATED:20181215T114030Z
LAST-MODIFIED:20181215T114049Z
UID:2722-1552208400-1552237200@staging.jalimei.de
SUMMARY:Unternehmerinnen - Messe 2019
DESCRIPTION:Am 10. März 2019 von 9:00 bis 17:00 Uhr findet in der Hermann-Allmers-Schule in Hagen zum sechsten Mal die Unternehmerinnen-Messe statt. \nAusstellerinnen aus der Region können auf zwei Etagen ein vielfältiges Angebot an Dienstleistungen und Produkten präsentieren. Zum Messeprogramm gehören auch Fachvorträge\, die den Besuchern nützliche Tipps vermitteln\, sowie eine Modenschau und Tanzvorführungen. Für das leibliche Wohl sorgen regionale Gastronominnen\, die Auswahl reicht von herzhafter Küche bis zu köstlichen Kuchen. Wie schon in den Vorjahren ist der Besuch der Messe kostenlos und eine Kinderbetreuung vorhanden.
URL:https://staging.jalimei.de/event/unternehmerinnen-messe-2019/
LOCATION:Hermann – Allmers Schule in Hagen (im Bremischen)\, Burgallee 4\, Hagen\, 27628\, Deutschland
END:VEVENT
END:VCALENDAR