BEGIN:VCALENDAR
VERSION:2.0
PRODID:-//Jalimei - ECPv5.2.1.1//NONSGML v1.0//EN
CALSCALE:GREGORIAN
METHOD:PUBLISH
X-WR-CALNAME:Jalimei
X-ORIGINAL-URL:https://staging.jalimei.de
X-WR-CALDESC:Veranstaltungen für Jalimei
BEGIN:VTIMEZONE
TZID:Europe/Berlin
BEGIN:DAYLIGHT
TZOFFSETFROM:+0100
TZOFFSETTO:+0200
TZNAME:CEST
DTSTART:20170326T010000
END:DAYLIGHT
BEGIN:STANDARD
TZOFFSETFROM:+0200
TZOFFSETTO:+0100
TZNAME:CET
DTSTART:20171029T010000
END:STANDARD
END:VTIMEZONE
BEGIN:VEVENT
DTSTART;TZID=Europe/Berlin:20170305T090000
DTEND;TZID=Europe/Berlin:20170305T170000
DTSTAMP:20260422T043414
CREATED:20170107T190007Z
LAST-MODIFIED:20170225T125110Z
UID:1349-1488704400-1488733200@staging.jalimei.de
SUMMARY:Unternehmerinnen-Messe 2017
DESCRIPTION:Am 5. März 2017 von 9:00 bis 17:00 Uhr findet in der Hermann-Allmers-Schule in Hagen zum fünften Mal die Unternehmerinnen-Messe statt. \nAusstellerinnen aus der Region können auf zwei Etagen ein vielfältiges Angebot an Dienstleistungen und Produkten präsentieren. Zum Messeprogramm gehören auch Fachvorträge\, die den Besuchern nützliche Tipps vermitteln\, sowie eine Modenschau und Tanzvorführungen. Für das leibliche Wohl sorgen regionale Gastronominnen\, die Auswahl reicht von herzhafter Küche bis zu köstlichen Kuchen. Wie schon in den Vorjahren ist der Besuch der Messe kostenlos und eine Kinderbetreuung vorhanden. \nU-Messe_Flyer_491x210_F5_Ansicht
URL:https://staging.jalimei.de/event/unternehmerinnen-messe-2017/
END:VEVENT
END:VCALENDAR