BEGIN:VCALENDAR
VERSION:2.0
PRODID:-//Jalimei - ECPv5.2.1.1//NONSGML v1.0//EN
CALSCALE:GREGORIAN
METHOD:PUBLISH
X-WR-CALNAME:Jalimei
X-ORIGINAL-URL:https://staging.jalimei.de
X-WR-CALDESC:Veranstaltungen für Jalimei
BEGIN:VTIMEZONE
TZID:Europe/Berlin
BEGIN:DAYLIGHT
TZOFFSETFROM:+0100
TZOFFSETTO:+0200
TZNAME:CEST
DTSTART:20180325T010000
END:DAYLIGHT
BEGIN:STANDARD
TZOFFSETFROM:+0200
TZOFFSETTO:+0100
TZNAME:CET
DTSTART:20181028T010000
END:STANDARD
END:VTIMEZONE
BEGIN:VEVENT
DTSTART;TZID=Europe/Berlin:20180812T110000
DTEND;TZID=Europe/Berlin:20180812T170000
DTSTAMP:20260421T211906
CREATED:20180218T093019Z
LAST-MODIFIED:20180518T045615Z
UID:2190-1534071600-1534093200@staging.jalimei.de
SUMMARY:"TausendSchön" im Taubenhof in Cadenberge
DESCRIPTION:Mode & Schmuck\, Taschen & Hüte\, Strick & Häckel\, Wolle & Filz!
URL:https://staging.jalimei.de/event/tausendschoen-im-taubenhof-in-cadenberge-3/
END:VEVENT
END:VCALENDAR