BEGIN:VCALENDAR
VERSION:2.0
PRODID:-//Jalimei - ECPv5.2.1.1//NONSGML v1.0//EN
CALSCALE:GREGORIAN
METHOD:PUBLISH
X-WR-CALNAME:Jalimei
X-ORIGINAL-URL:https://staging.jalimei.de
X-WR-CALDESC:Veranstaltungen für Jalimei
BEGIN:VTIMEZONE
TZID:Europe/Berlin
BEGIN:DAYLIGHT
TZOFFSETFROM:+0100
TZOFFSETTO:+0200
TZNAME:CEST
DTSTART:20200329T010000
END:DAYLIGHT
BEGIN:STANDARD
TZOFFSETFROM:+0200
TZOFFSETTO:+0100
TZNAME:CET
DTSTART:20201025T010000
END:STANDARD
END:VTIMEZONE
BEGIN:VEVENT
DTSTART;TZID=Europe/Berlin:20200531T110000
DTEND;TZID=Europe/Berlin:20200531T170000
DTSTAMP:20260421T150015
CREATED:20200119T193925Z
LAST-MODIFIED:20200422T094337Z
UID:3558-1590922800-1590944400@staging.jalimei.de
SUMMARY:PfingstPrinz“ im Taubenhof in Cadenberge
DESCRIPTION:— leider abgesagt —
URL:https://staging.jalimei.de/event/pfingstprinz-im-taubenhof-in-cadenberge-2/
LOCATION:Taubenhof Gut Cadenberge\, Graf-Bremer-Straße 33\, Cadenbertge\, 21781
CATEGORIES:Kunsthandwerkermarkt
END:VEVENT
END:VCALENDAR