BEGIN:VCALENDAR
VERSION:2.0
PRODID:-//Jalimei - ECPv5.2.1.1//NONSGML v1.0//EN
CALSCALE:GREGORIAN
METHOD:PUBLISH
X-WR-CALNAME:Jalimei
X-ORIGINAL-URL:https://staging.jalimei.de
X-WR-CALDESC:Veranstaltungen für Jalimei
BEGIN:VTIMEZONE
TZID:Europe/Berlin
BEGIN:DAYLIGHT
TZOFFSETFROM:+0100
TZOFFSETTO:+0200
TZNAME:CEST
DTSTART:20170326T010000
END:DAYLIGHT
BEGIN:STANDARD
TZOFFSETFROM:+0200
TZOFFSETTO:+0100
TZNAME:CET
DTSTART:20171029T010000
END:STANDARD
END:VTIMEZONE
BEGIN:VEVENT
DTSTART;TZID=Europe/Berlin:20170603T110000
DTEND;TZID=Europe/Berlin:20170603T180000
DTSTAMP:20260422T060312
CREATED:20161211T161147Z
LAST-MODIFIED:20170130T153015Z
UID:1329-1496487600-1496512800@staging.jalimei.de
SUMMARY:Pfingstkunst im Taubenhof in Cadenberge
DESCRIPTION:„Cuxlands schönster Kunsthandwerks-Markt für Frühling und Sommer“ heißt es in der Ankündigung des Veranstalters…… \nWeitere Informationen folgen…
URL:https://staging.jalimei.de/event/pfingstkunst-im-taubenhof-in-cadenberge/
LOCATION:Taubenhof Gut Cadenberge\, Graf-Bremer-Straße 33\, Cadenbertge\, 21781
CATEGORIES:Kunsthandwerkermarkt
END:VEVENT
END:VCALENDAR