BEGIN:VCALENDAR
VERSION:2.0
PRODID:-//Jalimei - ECPv5.2.1.1//NONSGML v1.0//EN
CALSCALE:GREGORIAN
METHOD:PUBLISH
X-WR-CALNAME:Jalimei
X-ORIGINAL-URL:https://staging.jalimei.de
X-WR-CALDESC:Veranstaltungen für Jalimei
BEGIN:VTIMEZONE
TZID:Europe/Berlin
BEGIN:DAYLIGHT
TZOFFSETFROM:+0100
TZOFFSETTO:+0200
TZNAME:CEST
DTSTART:20180325T010000
END:DAYLIGHT
BEGIN:STANDARD
TZOFFSETFROM:+0200
TZOFFSETTO:+0100
TZNAME:CET
DTSTART:20181028T010000
END:STANDARD
END:VTIMEZONE
BEGIN:VEVENT
DTSTART;TZID=Europe/Berlin:20180304T080000
DTEND;TZID=Europe/Berlin:20180304T170000
DTSTAMP:20260424T095956
CREATED:20171216T173437Z
LAST-MODIFIED:20180218T091611Z
UID:2101-1520150400-1520182800@staging.jalimei.de
SUMMARY:Ostermarkt in der alten Schule in Sievern
DESCRIPTION:Eine wirklich tolle Veranstaltung! \nFloristik\, bemalte Ostereier\, Papierarbeiten\, Damenbekleidung\, handgesiedete Seifen\, Schmuck und vieles mehr! Für jeden Geschmack ist etwas dabei. Außerdem gibt es freilaufende Mettwurst\, Hofkäse\, Honig\, Brot und Marmelade aus heimischer Produktion. Nehme Dir auch gleich die ersten Frühlingsblüher für Haus und Garten mit. Für den kulinarischen Genuss sorgen freilaufende Bratwurst\, Suppe\, leckere Waffeln mit heißen Kirschen und das beliebte Tortenbuffet.
URL:https://staging.jalimei.de/event/ostermarkt-in-der-alten-schule-in-sievern/
CATEGORIES:Kunsthandwerkermarkt
END:VEVENT
END:VCALENDAR