BEGIN:VCALENDAR
VERSION:2.0
PRODID:-//Jalimei - ECPv5.2.1.1//NONSGML v1.0//EN
CALSCALE:GREGORIAN
METHOD:PUBLISH
X-WR-CALNAME:Jalimei
X-ORIGINAL-URL:https://staging.jalimei.de
X-WR-CALDESC:Veranstaltungen für Jalimei
BEGIN:VTIMEZONE
TZID:Europe/Berlin
BEGIN:DAYLIGHT
TZOFFSETFROM:+0100
TZOFFSETTO:+0200
TZNAME:CEST
DTSTART:20250330T010000
END:DAYLIGHT
BEGIN:STANDARD
TZOFFSETFROM:+0200
TZOFFSETTO:+0100
TZNAME:CET
DTSTART:20251026T010000
END:STANDARD
END:VTIMEZONE
BEGIN:VEVENT
DTSTART;TZID=Europe/Berlin:20250927T100000
DTEND;TZID=Europe/Berlin:20250927T160000
DTSTAMP:20260421T205751
CREATED:20250917T122813Z
LAST-MODIFIED:20250917T123923Z
UID:7743-1758967200-1758988800@staging.jalimei.de
SUMMARY:Landfrauenmarkt Ihlienworth
DESCRIPTION:Unter dem Thema „Himmel und Erde“ findet der Landfrauenmarkt statt. Es wird saisonales Obst und Gemüse von regionalen Bauernhöfen sowie kreative HandwerksKunst in der alten Meierei angeboten.
URL:https://staging.jalimei.de/event/landfrauenmarkt-ihlienworth-2/
LOCATION:Alte Meierei\, Hauptstrasse 40\, Ihlienworth\, 21775\, Germany
ATTACH;FMTTYPE=image/jpeg:https://staging.jalimei.de/wp-content/uploads/2025/09/IMG_6056.jpg
END:VEVENT
END:VCALENDAR