BEGIN:VCALENDAR
VERSION:2.0
PRODID:-//Jalimei - ECPv5.2.1.1//NONSGML v1.0//EN
CALSCALE:GREGORIAN
METHOD:PUBLISH
X-WR-CALNAME:Jalimei
X-ORIGINAL-URL:https://staging.jalimei.de
X-WR-CALDESC:Veranstaltungen für Jalimei
BEGIN:VTIMEZONE
TZID:Europe/Berlin
BEGIN:DAYLIGHT
TZOFFSETFROM:+0100
TZOFFSETTO:+0200
TZNAME:CEST
DTSTART:20180325T010000
END:DAYLIGHT
BEGIN:STANDARD
TZOFFSETFROM:+0200
TZOFFSETTO:+0100
TZNAME:CET
DTSTART:20181028T010000
END:STANDARD
END:VTIMEZONE
BEGIN:VEVENT
DTSTART;TZID=Europe/Berlin:20180921T180000
DTEND;TZID=Europe/Berlin:20180921T230000
DTSTAMP:20260421T195432
CREATED:20180715T135306Z
LAST-MODIFIED:20180715T135306Z
UID:2479-1537552800-1537570800@staging.jalimei.de
SUMMARY:Ladies Night im Möbelhaus: Kemner Home Company
DESCRIPTION:Liebe Kundinnen\, \ndiesen Termin müsst ihr euch schon reservieren ….:) \nWeitere Details folgen! \n 
URL:https://staging.jalimei.de/event/ladies-night-im-moebelhaus-kemner-home-company/
LOCATION:Möbelhaus Kemner\, Handelspark 3\, Geestland\, 27624
END:VEVENT
END:VCALENDAR