BEGIN:VCALENDAR
VERSION:2.0
PRODID:-//Jalimei - ECPv5.2.1.1//NONSGML v1.0//EN
CALSCALE:GREGORIAN
METHOD:PUBLISH
X-WR-CALNAME:Jalimei
X-ORIGINAL-URL:https://staging.jalimei.de
X-WR-CALDESC:Veranstaltungen für Jalimei
BEGIN:VTIMEZONE
TZID:Europe/Berlin
BEGIN:DAYLIGHT
TZOFFSETFROM:+0100
TZOFFSETTO:+0200
TZNAME:CEST
DTSTART:20170326T010000
END:DAYLIGHT
BEGIN:STANDARD
TZOFFSETFROM:+0200
TZOFFSETTO:+0100
TZNAME:CET
DTSTART:20171029T010000
END:STANDARD
END:VTIMEZONE
BEGIN:VEVENT
DTSTART;TZID=Europe/Berlin:20170903T110000
DTEND;TZID=Europe/Berlin:20170903T180000
DTSTAMP:20260422T043244
CREATED:20161210T132020Z
LAST-MODIFIED:20170825T040337Z
UID:1324-1504436400-1504461600@staging.jalimei.de
SUMMARY:Kunsthandwerkermarkt im Bachmann-Museum
DESCRIPTION:Am 3. September findet der überregional bekannte Kunsthandwerkermarkt statt. Ausgesuchte Aussteller bieten zwischen 11-18 Uhr hochwertiges Kunsthandwerk und kulinarische Besonderheiten in dem idyllischen Ambiente unseres Schlossparks an. Hohe Qualität und ausschließlich selbst gefertigte Produkte zeichnen unsere Märkte aus und machen sie seit Jahren zu einem echten Publikumsmagneten. (Quelle: http://www.bachmann-museum.de)
URL:https://staging.jalimei.de/event/kunsthandwerkermarkt-im-bachmann-museum-2/
LOCATION:Bachmann-Museum\, Amtsallee 8\, Bremervörde\, 27432
CATEGORIES:Kunsthandwerkermarkt
END:VEVENT
END:VCALENDAR