BEGIN:VCALENDAR
VERSION:2.0
PRODID:-//Jalimei - ECPv5.2.1.1//NONSGML v1.0//EN
CALSCALE:GREGORIAN
METHOD:PUBLISH
X-WR-CALNAME:Jalimei
X-ORIGINAL-URL:https://staging.jalimei.de
X-WR-CALDESC:Veranstaltungen für Jalimei
BEGIN:VTIMEZONE
TZID:Europe/Berlin
BEGIN:DAYLIGHT
TZOFFSETFROM:+0100
TZOFFSETTO:+0200
TZNAME:CEST
DTSTART:20160327T010000
END:DAYLIGHT
BEGIN:STANDARD
TZOFFSETFROM:+0200
TZOFFSETTO:+0100
TZNAME:CET
DTSTART:20161030T010000
END:STANDARD
END:VTIMEZONE
BEGIN:VEVENT
DTSTART;TZID=Europe/Berlin:20161105T110000
DTEND;TZID=Europe/Berlin:20161105T170000
DTSTAMP:20260422T060323
CREATED:20160527T193118Z
LAST-MODIFIED:20160731T172349Z
UID:244-1478343600-1478365200@staging.jalimei.de
SUMMARY:Kunsthandwerker-Wintermarkt im Taubenhof Cadenberge
DESCRIPTION:Liebe Jalimei – Kundinnen\, \nam 5. und 6. November stelle ich im „Taubenhof“ in Cadenberge aus. \nDie Taubenhof-Märkte sind traditionell konzipiert  – ohne „Gastro-Meile“ und ohne Händler. Im Vordergrund sollen künstlerische Objekte und Arbeiten „von eigener Hand“ stehen  – und sie gehören inzwischen zu den schönsten Veranstaltungen der Region. Das Gutscafé serviert dazu Kaffee und Kuchen\, der Waldkindergarten Wingst backt frische Waffeln\, und ein Grill sorgt für Herzhaftes.
URL:https://staging.jalimei.de/event/kunsthandwerker-wintermarkt-im-taubenhof-cadenberge/
LOCATION:Taubenhof Gut Cadenberge\, Graf-Bremer-Straße 33\, Cadenbertge\, 21781
END:VEVENT
END:VCALENDAR