BEGIN:VCALENDAR
VERSION:2.0
PRODID:-//Jalimei - ECPv5.2.1.1//NONSGML v1.0//EN
CALSCALE:GREGORIAN
METHOD:PUBLISH
X-WR-CALNAME:Jalimei
X-ORIGINAL-URL:https://staging.jalimei.de
X-WR-CALDESC:Veranstaltungen für Jalimei
BEGIN:VTIMEZONE
TZID:Europe/Berlin
BEGIN:DAYLIGHT
TZOFFSETFROM:+0100
TZOFFSETTO:+0200
TZNAME:CEST
DTSTART:20180325T010000
END:DAYLIGHT
BEGIN:STANDARD
TZOFFSETFROM:+0200
TZOFFSETTO:+0100
TZNAME:CET
DTSTART:20181028T010000
END:STANDARD
END:VTIMEZONE
BEGIN:VEVENT
DTSTART;TZID=Europe/Berlin:20181007T100000
DTEND;TZID=Europe/Berlin:20181007T170000
DTSTAMP:20260423T104452
CREATED:20180304T132932Z
LAST-MODIFIED:20180304T133140Z
UID:2211-1538906400-1538931600@staging.jalimei.de
SUMMARY:Kunsthandwerk\, Pflanzen und Kulinarisches zum Erntedank am Logehuus in Hesedorf
DESCRIPTION:Eine besonders schöne Veranstaltung erwartet die Besucher am Logehuus unter dem Motto „klein aber fein”. Über 50 Aussteller aus den Bereichen Kunsthandwerk\, Kulinarisches und Pflanzen präsentieren ihr Angebot. \nEinige Kunsthandwerker geben einen Einblick in ihre Fertigkeiten. \nwww.heimatverein-hesedorf.de
URL:https://staging.jalimei.de/event/kunsthandwerk-pflanzen-und-kulinarisches-zum-erntedank-am-logehuus-in-hesedorf/
CATEGORIES:Kunsthandwerkermarkt
END:VEVENT
END:VCALENDAR