BEGIN:VCALENDAR
VERSION:2.0
PRODID:-//Jalimei - ECPv5.2.1.1//NONSGML v1.0//EN
CALSCALE:GREGORIAN
METHOD:PUBLISH
X-WR-CALNAME:Jalimei
X-ORIGINAL-URL:https://staging.jalimei.de
X-WR-CALDESC:Veranstaltungen für Jalimei
BEGIN:VTIMEZONE
TZID:Europe/Berlin
BEGIN:DAYLIGHT
TZOFFSETFROM:+0100
TZOFFSETTO:+0200
TZNAME:CEST
DTSTART:20170326T010000
END:DAYLIGHT
BEGIN:STANDARD
TZOFFSETFROM:+0200
TZOFFSETTO:+0100
TZNAME:CET
DTSTART:20171029T010000
END:STANDARD
END:VTIMEZONE
BEGIN:VEVENT
DTSTART;TZID=Europe/Berlin:20171001T110000
DTEND;TZID=Europe/Berlin:20171001T170000
DTSTAMP:20260422T025848
CREATED:20161211T160305Z
LAST-MODIFIED:20170130T153757Z
UID:1328-1506855600-1506877200@staging.jalimei.de
SUMMARY:Kunsthandwerk\, Pflanzen und Kulinarisches zum Erntedank am Logehuus in Hesedorf
DESCRIPTION:Eine besonders schöne Veranstaltung erwartet die Besucher am Logehuus unter dem Motto „klein aber fein”. Über 50 Aussteller aus den Bereichen Kunsthandwerk\, Kulinarisches und Pflanzen präsentieren ihr Angebot. \nEinige Kunsthandwerker geben einen Einblick in ihre Fertigkeiten.
URL:https://staging.jalimei.de/event/kunsthandwerk-pflanzen-und-kulinarisches-zum-erntedank-2/
LOCATION:Logehuus Hesedorf\, Auf der Loge 2a\, Bremervörde\, 27432
CATEGORIES:Kunsthandwerkermarkt
END:VEVENT
END:VCALENDAR