BEGIN:VCALENDAR
VERSION:2.0
PRODID:-//Jalimei - ECPv5.2.1.1//NONSGML v1.0//EN
CALSCALE:GREGORIAN
METHOD:PUBLISH
X-WR-CALNAME:Jalimei
X-ORIGINAL-URL:https://staging.jalimei.de
X-WR-CALDESC:Veranstaltungen für Jalimei
BEGIN:VTIMEZONE
TZID:Europe/Berlin
BEGIN:DAYLIGHT
TZOFFSETFROM:+0100
TZOFFSETTO:+0200
TZNAME:CEST
DTSTART:20190331T010000
END:DAYLIGHT
BEGIN:STANDARD
TZOFFSETFROM:+0200
TZOFFSETTO:+0100
TZNAME:CET
DTSTART:20191027T010000
END:STANDARD
END:VTIMEZONE
BEGIN:VEVENT
DTSTART;TZID=Europe/Berlin:20190922T110000
DTEND;TZID=Europe/Berlin:20190922T180000
DTSTAMP:20260421T150035
CREATED:20190119T090752Z
LAST-MODIFIED:20190530T183456Z
UID:2770-1569150000-1569175200@staging.jalimei.de
SUMMARY:Kürbisfest in Ohlenstedt bei Familie Hertz-Kleptow
DESCRIPTION:Liebe Jalimei Kundin ! \nwie in jedem Jahr findet in Ohlenstedt das große Kürbisfest im Bauerngarten der Familie Hertz-Kleptow statt. \nDas überregional bekannte Kürbisfest bietet viele Köstlichkeiten und eine Menge Spass für die \nganze Familie. Einige verschiedene Gastaussteller runden das Programm ab.
URL:https://staging.jalimei.de/event/kuerbisfest-in-ohlenstedt-bei-familie-hertz-kleptow/
LOCATION:Kürbishof Hertz-Kleptow\, Alt Ohlenstedt 50\, Osterholz Scharmbeck\, 27711
END:VEVENT
END:VCALENDAR