BEGIN:VCALENDAR
VERSION:2.0
PRODID:-//Jalimei - ECPv5.2.1.1//NONSGML v1.0//EN
CALSCALE:GREGORIAN
METHOD:PUBLISH
X-WR-CALNAME:Jalimei
X-ORIGINAL-URL:https://staging.jalimei.de
X-WR-CALDESC:Veranstaltungen für Jalimei
BEGIN:VTIMEZONE
TZID:Europe/Berlin
BEGIN:DAYLIGHT
TZOFFSETFROM:+0100
TZOFFSETTO:+0200
TZNAME:CEST
DTSTART:20160327T010000
END:DAYLIGHT
BEGIN:STANDARD
TZOFFSETFROM:+0200
TZOFFSETTO:+0100
TZNAME:CET
DTSTART:20161030T010000
END:STANDARD
END:VTIMEZONE
BEGIN:VEVENT
DTSTART;TZID=Europe/Berlin:20160925T110000
DTEND;TZID=Europe/Berlin:20160925T180000
DTSTAMP:20260422T043209
CREATED:20160523T193913Z
LAST-MODIFIED:20160523T194159Z
UID:229-1474801200-1474826400@staging.jalimei.de
SUMMARY:Kürbisfest Hertz-Kleptow
DESCRIPTION:Liebe Jalimei Kundin ! \nwie in jedem Jahr findet in Ohlenstedt das große Kürbisfest im Bauerngarten Hertz-Kleptow statt. \nDas überregional bekannte Kürbisfest bietet viele Köstlichkeiten und eine Menge Spass für die \nganze Familie. Einige verschiedene Gastaussteller runden das Programm ab. \n 
URL:https://staging.jalimei.de/event/kuerbisfest-hertz-kleptow/
LOCATION:Unbenannter Veranstaltungsort\, Alt Ohlenstedt 50\, Osterholz-Scharmbeck\, 27711
END:VEVENT
END:VCALENDAR