BEGIN:VCALENDAR
VERSION:2.0
PRODID:-//Jalimei - ECPv5.2.1.1//NONSGML v1.0//EN
CALSCALE:GREGORIAN
METHOD:PUBLISH
X-WR-CALNAME:Jalimei
X-ORIGINAL-URL:https://staging.jalimei.de
X-WR-CALDESC:Veranstaltungen für Jalimei
BEGIN:VTIMEZONE
TZID:Europe/Berlin
BEGIN:DAYLIGHT
TZOFFSETFROM:+0100
TZOFFSETTO:+0200
TZNAME:CEST
DTSTART:20190331T010000
END:DAYLIGHT
BEGIN:STANDARD
TZOFFSETFROM:+0200
TZOFFSETTO:+0100
TZNAME:CET
DTSTART:20191027T010000
END:STANDARD
END:VTIMEZONE
BEGIN:VEVENT
DTSTART;TZID=Europe/Berlin:20190512T110000
DTEND;TZID=Europe/Berlin:20190512T170000
DTSTAMP:20260421T210648
CREATED:20190119T092343Z
LAST-MODIFIED:20190331T173825Z
UID:2772-1557658800-1557680400@staging.jalimei.de
SUMMARY:KreARTiv-Markt am URLA-Hus
DESCRIPTION:– Kunst – Handwerk – Deko – Pflanzen – \nSchönes für Heim & Garten \nAm Sonntag\, 12. Mai 2019 von 11.00 – 17.00 Uhr findet unser KreARTiv-Markt statt. \nEs erwartet Sie wieder ein umfangreiches Sortiment an Pflanzen\, Stauden\, Kunsthandwerk und Dekoration. \nÜber 60 Aussteller aus nah und fern präsentieren sich und ihre Produkte. \nOb Wohnaccessoires und Dekoratives\, Keramik\, Vogelhäuser\, Naturseifen\, Gewürze\, Schmuck\, Holzdekoration \nund viele weitere schöne Dinge. \nEinige Aussteller vermitteln Einblicke in Ihre Arbeitsweise und führen Ihr Handwerk vor. \nFür das leibliche Wohl sorgen verschiedene gastronomische Betriebe mit kulinarischen Köstlichkeiten. \nAuch bei Kaffee und Kuchen lässt sich so auf dem Gelände eine gemütliche Pause machen. \nKinderschminken und Ballonmodellierer für die kleinen Gäste. \nQuelle: www.urla-hus.de.de
URL:https://staging.jalimei.de/event/kreartiv-markt-am-urla-hus/
LOCATION:Urla Hus\, Fiehnenberg 4\, Anderlingen-Ohrel\, 27446
CATEGORIES:Kunsthandwerkermarkt
ORGANIZER;CN="URLA-Hus":MAILTO:info@urla-hus.de
END:VEVENT
END:VCALENDAR