BEGIN:VCALENDAR
VERSION:2.0
PRODID:-//Jalimei - ECPv5.2.1.1//NONSGML v1.0//EN
CALSCALE:GREGORIAN
METHOD:PUBLISH
X-WR-CALNAME:Jalimei
X-ORIGINAL-URL:https://staging.jalimei.de
X-WR-CALDESC:Veranstaltungen für Jalimei
BEGIN:VTIMEZONE
TZID:Europe/Berlin
BEGIN:DAYLIGHT
TZOFFSETFROM:+0100
TZOFFSETTO:+0200
TZNAME:CEST
DTSTART:20200329T010000
END:DAYLIGHT
BEGIN:STANDARD
TZOFFSETFROM:+0200
TZOFFSETTO:+0100
TZNAME:CET
DTSTART:20201025T010000
END:STANDARD
END:VTIMEZONE
BEGIN:VEVENT
DTSTART;TZID=Europe/Berlin:20200906T110000
DTEND;TZID=Europe/Berlin:20200906T170000
DTSTAMP:20260421T211313
CREATED:20200119T192201Z
LAST-MODIFIED:20200624T121603Z
UID:3549-1599390000-1599411600@staging.jalimei.de
SUMMARY:Leider abgesagt!! "Herbstlicher Gartenzauber" im Bachmann-Museum
DESCRIPTION:Am 6.September findet der „herbstliche Gartenzauber“ im wunderschönen Bachmann Museum statt. Ausgesuchte Aussteller bieten zwischen 11-17 Uhr hochwertiges Kunsthandwerk und kulinarische Besonderheiten in dem idyllischen Ambiente unseres Schlossparks an.
URL:https://staging.jalimei.de/event/herbstlicher-gartenzauber-im-bachmann-museum/
LOCATION:Bachmann-Museum\, Amtsallee 8\, Bremervörde\, 27432
CATEGORIES:Kunsthandwerkermarkt
END:VEVENT
END:VCALENDAR