BEGIN:VCALENDAR
VERSION:2.0
PRODID:-//Jalimei - ECPv5.2.1.1//NONSGML v1.0//EN
CALSCALE:GREGORIAN
METHOD:PUBLISH
X-WR-CALNAME:Jalimei
X-ORIGINAL-URL:https://staging.jalimei.de
X-WR-CALDESC:Veranstaltungen für Jalimei
BEGIN:VTIMEZONE
TZID:Europe/Berlin
BEGIN:DAYLIGHT
TZOFFSETFROM:+0100
TZOFFSETTO:+0200
TZNAME:CEST
DTSTART:20180325T010000
END:DAYLIGHT
BEGIN:STANDARD
TZOFFSETFROM:+0200
TZOFFSETTO:+0100
TZNAME:CET
DTSTART:20181028T010000
END:STANDARD
END:VTIMEZONE
BEGIN:VEVENT
DTSTART;TZID=Europe/Berlin:20181103T110000
DTEND;TZID=Europe/Berlin:20181103T170000
DTSTAMP:20260422T002050
CREATED:20180218T091933Z
LAST-MODIFIED:20180218T093122Z
UID:2186-1541242800-1541264400@staging.jalimei.de
SUMMARY:"HerbstKönig" im Taubenhof in Cadenberge
DESCRIPTION:Die Taubenhof-Märkte sind traditionell konzipiert  – ohne „Gastro-Meile“ und ohne Händler. Im Vordergrund sollen künstlerische Objekte und Arbeiten „von eigener Hand“ stehen  – und sie gehören inzwischen zu den schönsten Veranstaltungen der Region. Das Gutscafé serviert dazu Kaffee und Kuchen\, der Waldkindergarten Wingst backt frische Waffeln\, und ein Grill sorgt für Herzhaftes.
URL:https://staging.jalimei.de/event/herbstkoenig-im-taubenhof-in-cadenberge-3/
CATEGORIES:Kunsthandwerkermarkt
END:VEVENT
END:VCALENDAR