BEGIN:VCALENDAR
VERSION:2.0
PRODID:-//Jalimei - ECPv5.2.1.1//NONSGML v1.0//EN
CALSCALE:GREGORIAN
METHOD:PUBLISH
X-WR-CALNAME:Jalimei
X-ORIGINAL-URL:https://staging.jalimei.de
X-WR-CALDESC:Veranstaltungen für Jalimei
BEGIN:VTIMEZONE
TZID:Europe/Berlin
BEGIN:DAYLIGHT
TZOFFSETFROM:+0100
TZOFFSETTO:+0200
TZNAME:CEST
DTSTART:20190331T010000
END:DAYLIGHT
BEGIN:STANDARD
TZOFFSETFROM:+0200
TZOFFSETTO:+0100
TZNAME:CET
DTSTART:20191027T010000
END:STANDARD
END:VTIMEZONE
BEGIN:VEVENT
DTSTART;TZID=Europe/Berlin:20191122T170000
DTEND;TZID=Europe/Berlin:20191122T230000
DTSTAMP:20260421T143718
CREATED:20181118T182343Z
LAST-MODIFIED:20191031T141129Z
UID:2685-1574442000-1574463600@staging.jalimei.de
SUMMARY:Glitzernacht: Weihnachten bei Jalimei!
DESCRIPTION:Liebe Jalimei-Kundin! \nWeihnachten steht vor der Tür und Du bist herzlich eingeladen\, \nDich am 21. und 22.11.2019 durch die zarten Klänge einer Harfe\, einem Glas Glühfrucht und \nkleinen Leckereien auf diese besinnliche Zeit einzustimmen. \nNeben den vielen Schmuckstücken von Jalimei kannst Du kleine \nschöne Dinge bei Sonja Kopischke erwerben. \nWann: 21. November 2019\, 18 – 22 Uhr\n             22. November 2019\, 17 – 23 Uhr\nWo: Mühlenstr. 59\, 27616 Beverstedt-Bokel\n       \nOb als Geschenk für die Liebsten oder für Dich – Dein individuelles Weihnachtsschmuckstück wartet auf Dich! \nDu kannst nicht persönlich kommen? Dann bestelle Dein Wunschschmuckstück unter www.jalimei.de. \nIch freue mich auf Deinen Besuch. \nDeine Meike Masemann
URL:https://staging.jalimei.de/event/glitzernacht-wbei-jalimei/
LOCATION:Beverstedt – Bokel\, Mühlenstr. 59\, Beverstedt - Bokel\, 27616
CATEGORIES:Glitzernacht
ORGANIZER;CN="Jalimei":MAILTO:meike.masemann@staging.jalimei.de
END:VEVENT
END:VCALENDAR