BEGIN:VCALENDAR
VERSION:2.0
PRODID:-//Jalimei - ECPv5.2.1.1//NONSGML v1.0//EN
CALSCALE:GREGORIAN
METHOD:PUBLISH
X-WR-CALNAME:Jalimei
X-ORIGINAL-URL:https://staging.jalimei.de
X-WR-CALDESC:Veranstaltungen für Jalimei
BEGIN:VTIMEZONE
TZID:Europe/Berlin
BEGIN:DAYLIGHT
TZOFFSETFROM:+0100
TZOFFSETTO:+0200
TZNAME:CEST
DTSTART:20170326T010000
END:DAYLIGHT
BEGIN:STANDARD
TZOFFSETFROM:+0200
TZOFFSETTO:+0100
TZNAME:CET
DTSTART:20171029T010000
END:STANDARD
END:VTIMEZONE
BEGIN:VEVENT
DTSTART;TZID=Europe/Berlin:20170915T170000
DTEND;TZID=Europe/Berlin:20170915T230000
DTSTAMP:20260423T121242
CREATED:20161204T123121Z
LAST-MODIFIED:20170827T115658Z
UID:1311-1505494800-1505516400@staging.jalimei.de
SUMMARY:Glitzernacht: Schmuckvoller Herbst!
DESCRIPTION:Liebe Jalimei-Kundin\, \nDu bist herzlich eingeladen\, Dich bei einem Gläschen Sekt auf die neue Herbstkollektion einstimmen zu lassen. Neben den vielen neuen Schmuckstücken von Jalimei findest Du erstmalig und exklusiv in unserer Region tolle Taschen in einer wasserfesten Papieroptik. Fehlen dürfen natürlich auch nicht die hochwertigen Ledergürtel mit Wechselschließen aus dem Hause Luca Kayz sowie eine Vielzahl an Tüchern \n        \nSchau doch bei mir persönlich vorbei oder bestelle Dein Wunschschmuckstück einfach gleich online. \nDeine Meike
URL:https://staging.jalimei.de/event/glitzernacht-schmuckvoller-herbst/
LOCATION:Beverstedt – Bokel\, Mühlenstr. 59\, Beverstedt - Bokel\, 27616
CATEGORIES:Glitzernacht
ORGANIZER;CN="Jalimei":MAILTO:meike.masemann@staging.jalimei.de
END:VEVENT
END:VCALENDAR