BEGIN:VCALENDAR
VERSION:2.0
PRODID:-//Jalimei - ECPv5.2.1.1//NONSGML v1.0//EN
CALSCALE:GREGORIAN
METHOD:PUBLISH
X-WR-CALNAME:Jalimei
X-ORIGINAL-URL:https://staging.jalimei.de
X-WR-CALDESC:Veranstaltungen für Jalimei
BEGIN:VTIMEZONE
TZID:Europe/Berlin
BEGIN:DAYLIGHT
TZOFFSETFROM:+0100
TZOFFSETTO:+0200
TZNAME:CEST
DTSTART:20190331T010000
END:DAYLIGHT
BEGIN:STANDARD
TZOFFSETFROM:+0200
TZOFFSETTO:+0100
TZNAME:CET
DTSTART:20191027T010000
END:STANDARD
END:VTIMEZONE
BEGIN:VEVENT
DTSTART;TZID=Europe/Berlin:20190913T170000
DTEND;TZID=Europe/Berlin:20190913T230000
DTSTAMP:20260421T205831
CREATED:20181118T182033Z
LAST-MODIFIED:20190811T190850Z
UID:2680-1568394000-1568415600@staging.jalimei.de
SUMMARY:Glitzernacht: Schmuckvoller Herbst!
DESCRIPTION:Liebe Jalimei – Kundin\, \nfreue Dich auf unser nächstes Event: Schmuckvoller Herbst bei Jalimei ! \nTauche ein in die Herbstfarben dieses Jahres und lass Dich bei einem Gläschen Sekt von den vielen Jalimei-Schmuckstücken auf den Herbst einstimmen. \nNatürlich findest Du auch die neuesten Gürtelmodelle und Schließen aus dem Hause Luca Kayz sowie die tollen Uhren von OOZOO. \nLass Dich überraschen – es warten noch mehr tolle neue Sachen auf Dich! \nWann: Freitag\, den 13. Spetember 2019\, 17.00 – 23.00 Uhr \nWo:     Mühlenstr. 59\, 27616 Beverstedt-Bokel \n     \nIch freue mich auf Deinen Besuch! \nDeine Meike Masemann
URL:https://staging.jalimei.de/event/glitzernacht-schmuckvoller-herbst-3/
LOCATION:Beverstedt – Bokel\, Mühlenstr. 59\, Beverstedt - Bokel\, 27616
CATEGORIES:Glitzernacht
ORGANIZER;CN="Jalimei":MAILTO:meike.masemann@staging.jalimei.de
END:VEVENT
END:VCALENDAR