BEGIN:VCALENDAR
VERSION:2.0
PRODID:-//Jalimei - ECPv5.2.1.1//NONSGML v1.0//EN
CALSCALE:GREGORIAN
METHOD:PUBLISH
X-WR-CALNAME:Jalimei
X-ORIGINAL-URL:https://staging.jalimei.de
X-WR-CALDESC:Veranstaltungen für Jalimei
BEGIN:VTIMEZONE
TZID:Europe/Berlin
BEGIN:DAYLIGHT
TZOFFSETFROM:+0100
TZOFFSETTO:+0200
TZNAME:CEST
DTSTART:20200329T010000
END:DAYLIGHT
BEGIN:STANDARD
TZOFFSETFROM:+0200
TZOFFSETTO:+0100
TZNAME:CET
DTSTART:20201025T010000
END:STANDARD
END:VTIMEZONE
BEGIN:VEVENT
DTSTART;TZID=Europe/Berlin:20200710T170000
DTEND;TZID=Europe/Berlin:20200710T230000
DTSTAMP:20260423T104339
CREATED:20191020T145657Z
LAST-MODIFIED:20200524T170938Z
UID:3428-1594400400-1594422000@staging.jalimei.de
SUMMARY:Verschoben: Glitzernacht Jalimei open Air findet nicht am 10. Juli statt!
DESCRIPTION:Viele Veranstaltungen sind den Corona-Regelungen bereits zum Opfer gefallen und abgesagt worden.\nDie Vorgaben der Landesregierung\, der Landkreise und der Gemeinden sind umzusetzen und das gilt auch für uns. Nach Rücksprache mit unserer Gemeindeverwaltung muss auch unsere überregional bekannte Glitzernacht  „Open Air“ mit ca. 1000 Besucher in diesem Jahr am 10. Juli leider dementsprechend ausfallen.\n\nAufgeben ist aber für uns keine Option und wir ziehen eine Verschiebung mit einer Konzeptanpassung in Erwägung.\nHierzu laufen bereits erste Gespräche mit der Gemeinde in Beverstedt und dem Ordnungsamt in Cuxhaven. Die Genehmigungen stehen aber noch aus.\nWir halten Euch auf dem Laufenden!
URL:https://staging.jalimei.de/event/glitzernacht-jalimei-open-air-4/
LOCATION:Beverstedt – Bokel\, Mühlenstr. 59\, Beverstedt - Bokel\, 27616
CATEGORIES:Glitzernacht
ORGANIZER;CN="Jalimei":MAILTO:meike.masemann@staging.jalimei.de
END:VEVENT
END:VCALENDAR