BEGIN:VCALENDAR
VERSION:2.0
PRODID:-//Jalimei - ECPv5.2.1.1//NONSGML v1.0//EN
CALSCALE:GREGORIAN
METHOD:PUBLISH
X-WR-CALNAME:Jalimei
X-ORIGINAL-URL:https://staging.jalimei.de
X-WR-CALDESC:Veranstaltungen für Jalimei
BEGIN:VTIMEZONE
TZID:Europe/Berlin
BEGIN:DAYLIGHT
TZOFFSETFROM:+0100
TZOFFSETTO:+0200
TZNAME:CEST
DTSTART:20170326T010000
END:DAYLIGHT
BEGIN:STANDARD
TZOFFSETFROM:+0200
TZOFFSETTO:+0100
TZNAME:CET
DTSTART:20171029T010000
END:STANDARD
END:VTIMEZONE
BEGIN:VEVENT
DTSTART;TZID=Europe/Berlin:20170310T170000
DTEND;TZID=Europe/Berlin:20170310T230000
DTSTAMP:20260422T060107
CREATED:20161204T123218Z
LAST-MODIFIED:20170225T115003Z
UID:1309-1489165200-1489186800@staging.jalimei.de
SUMMARY:Glitzernacht: Frühling bei Jalimei!
DESCRIPTION:Liebe Jalimei-Kundin\, \nEs glitzert wieder im Hause Masemann und Du bist herzlich eingeladen\, Dich bei einem Glas Sekt von den neuen Jalimei-Schmuckstücken auf den Frühling einstimmen zu lassen. \nAußerdem warten auf Dich die neuesten Gürtelmodelle aus dem Hause Luca Kayz sowie Taschen und Portemonnaies aus dem Leinen alter Militärzelte. \nKrista Snider präsentiert Ihre leckeren selbstgemachten Pralinen. \nDu kannst nicht persönlich dabei sein ? Dann bestelle Dein Wunschschmuckstück einfach online unter www.jalimei.de. \n   Einladung \nEin toller Abend\, an dem Du nicht fehlen darfst. Ich freue mich auf Deinen Besuch. \nDeine Meike Masemann
URL:https://staging.jalimei.de/event/glitzernacht-fruehling-bei-jalimei/
LOCATION:Beverstedt – Bokel\, Mühlenstr. 59\, Beverstedt - Bokel\, 27616
CATEGORIES:Glitzernacht
ORGANIZER;CN="Jalimei":MAILTO:meike.masemann@staging.jalimei.de
END:VEVENT
END:VCALENDAR