BEGIN:VCALENDAR
VERSION:2.0
PRODID:-//Jalimei - ECPv5.2.1.1//NONSGML v1.0//EN
CALSCALE:GREGORIAN
METHOD:PUBLISH
X-WR-CALNAME:Jalimei
X-ORIGINAL-URL:https://staging.jalimei.de
X-WR-CALDESC:Veranstaltungen für Jalimei
BEGIN:VTIMEZONE
TZID:Europe/Berlin
BEGIN:DAYLIGHT
TZOFFSETFROM:+0100
TZOFFSETTO:+0200
TZNAME:CEST
DTSTART:20210328T010000
END:DAYLIGHT
BEGIN:STANDARD
TZOFFSETFROM:+0200
TZOFFSETTO:+0100
TZNAME:CET
DTSTART:20211031T010000
END:STANDARD
END:VTIMEZONE
BEGIN:VEVENT
DTSTART;TZID=Europe/Berlin:20210319T170000
DTEND;TZID=Europe/Berlin:20210319T230000
DTSTAMP:20260421T212410
CREATED:20191020T145501Z
LAST-MODIFIED:20210218T085536Z
UID:3425-1616173200-1616194800@staging.jalimei.de
SUMMARY:Frühling bei Jalimei findet nicht statt!!
DESCRIPTION:Ihr Lieben\,\ndas Coronavirus hat uns weiterhin fest im Griff und somit weiß ich noch gar nicht\, ob in diesem Jahr eine unserer beliebten Glitzernächte stattfinden kann. Da die Veranstaltung ja in unseren privaten Räumlichkeiten stattfindet\, der Mindestabstand und die zulässige Personenzahl für solch einen Abend schlecht eingehalten werden können\, ist es für uns unmöglich\, solch eine Veranstaltung zum jetzigen Zeitpunkt durchzuführen. Wir hoffen natürlich\, dass sich die Lage über das Jahr etwas entspannt und wir dann kurzfristig etwas planen können. Darüber halten wir Euch natürlich auf dem Laufenden…\nBis dahin bleibt alles schön gesund!! \nSehr gerne könnt ihr mich persönlich kontaktieren und einen Termin in meinem Räumlichkeiten verabreden\, sobald der Gesetzgeber dies wieder ermöglicht. Die Öffnungszeiten werden dann auch wieder wie gewohnt stattfinden…\n…oder Ihr stöbert ein bisschen in meinem Shop und bestellt einfach online.
URL:https://staging.jalimei.de/event/glitzernacht-fruehling-bei-jalimei-3/
LOCATION:Beverstedt – Bokel\, Mühlenstr. 59\, Beverstedt - Bokel\, 27616
CATEGORIES:Glitzernacht
ORGANIZER;CN="Jalimei":MAILTO:meike.masemann@staging.jalimei.de
END:VEVENT
END:VCALENDAR