BEGIN:VCALENDAR
VERSION:2.0
PRODID:-//Jalimei - ECPv5.2.1.1//NONSGML v1.0//EN
CALSCALE:GREGORIAN
METHOD:PUBLISH
X-WR-CALNAME:Jalimei
X-ORIGINAL-URL:https://staging.jalimei.de
X-WR-CALDESC:Veranstaltungen für Jalimei
BEGIN:VTIMEZONE
TZID:Europe/Berlin
BEGIN:DAYLIGHT
TZOFFSETFROM:+0100
TZOFFSETTO:+0200
TZNAME:CEST
DTSTART:20190331T010000
END:DAYLIGHT
BEGIN:STANDARD
TZOFFSETFROM:+0200
TZOFFSETTO:+0100
TZNAME:CET
DTSTART:20191027T010000
END:STANDARD
END:VTIMEZONE
BEGIN:VEVENT
DTSTART;TZID=Europe/Berlin:20190405T170000
DTEND;TZID=Europe/Berlin:20190405T230000
DTSTAMP:20260422T011850
CREATED:20181118T181832Z
LAST-MODIFIED:20190316T102622Z
UID:2676-1554483600-1554505200@staging.jalimei.de
SUMMARY:Glitzernacht: Frühling bei Jalimei!
DESCRIPTION:Liebe Jalimei-Kundin\, \nDu bist gespannt auf die neuesten Trends und Farben in diesem Schmuck-Frühling? \nDann tauche am 5. April 2019 bei einem Glas Sekt in die frischen Frühlingsfarben ein und suche Dir Dein Must-Have aus. \nAußerdem gibt es viele neue Uhren der Marke OOZOO\, eine große Auswahl Silberringe sowie tolle Ohrringe und Armbänder in brandaktuellen Swarovskifarben. \nWann: 5. April 2019 von 17.00 – 23.00 Uhr \nWo: Mühlenstr. 59\, 27616 Beverstedt-Bokel \n  \n     \nDu kannst nicht persönlich dabei sein? Dann bestelle Dein Wunschschmuckstück gleich hier …. \nIch freue mich auf Deinen Besuch. \nMeike Masemann
URL:https://staging.jalimei.de/event/glitzernacht-fruehling-bei-jalimei-2/
LOCATION:Beverstedt – Bokel\, Mühlenstr. 59\, Beverstedt - Bokel\, 27616
CATEGORIES:Glitzernacht
ORGANIZER;CN="Jalimei":MAILTO:meike.masemann@staging.jalimei.de
END:VEVENT
END:VCALENDAR