BEGIN:VCALENDAR
VERSION:2.0
PRODID:-//Jalimei - ECPv5.2.1.1//NONSGML v1.0//EN
CALSCALE:GREGORIAN
METHOD:PUBLISH
X-WR-CALNAME:Jalimei
X-ORIGINAL-URL:https://staging.jalimei.de
X-WR-CALDESC:Veranstaltungen für Jalimei
BEGIN:VTIMEZONE
TZID:Europe/Berlin
BEGIN:DAYLIGHT
TZOFFSETFROM:+0100
TZOFFSETTO:+0200
TZNAME:CEST
DTSTART:20240331T010000
END:DAYLIGHT
BEGIN:STANDARD
TZOFFSETFROM:+0200
TZOFFSETTO:+0100
TZNAME:CET
DTSTART:20241027T010000
END:STANDARD
END:VTIMEZONE
BEGIN:VEVENT
DTSTART;TZID=Europe/Berlin:20240915T110000
DTEND;TZID=Europe/Berlin:20240915T170000
DTSTAMP:20260419T162340
CREATED:20240822T115630Z
LAST-MODIFIED:20240822T121542Z
UID:6972-1726398000-1726419600@staging.jalimei.de
SUMMARY:Der bunte Herbstmarkt
DESCRIPTION:Dieser Markt findet zum ersten Mal statt und bietet Kunst und Kreatives in der Grundschule in Osten\nDer Eintritt ist frei! \nFür’s leibliche Wohl ist gesorgt!
URL:https://staging.jalimei.de/event/der-bunte-herbstmarkt/
LOCATION:Grundschule Osten\, Jahnstrasse 14\, Osten\, 21756\, Germany
ATTACH;FMTTYPE=image/jpeg:https://staging.jalimei.de/wp-content/uploads/2024/08/IMG_8668-scaled.jpeg
END:VEVENT
END:VCALENDAR