BEGIN:VCALENDAR
VERSION:2.0
PRODID:-//Jalimei - ECPv5.2.1.1//NONSGML v1.0//EN
CALSCALE:GREGORIAN
METHOD:PUBLISH
X-WR-CALNAME:Jalimei
X-ORIGINAL-URL:https://staging.jalimei.de
X-WR-CALDESC:Veranstaltungen für Jalimei
BEGIN:VTIMEZONE
TZID:Europe/Berlin
BEGIN:DAYLIGHT
TZOFFSETFROM:+0100
TZOFFSETTO:+0200
TZNAME:CEST
DTSTART:20250330T010000
END:DAYLIGHT
BEGIN:STANDARD
TZOFFSETFROM:+0200
TZOFFSETTO:+0100
TZNAME:CET
DTSTART:20251026T010000
END:STANDARD
END:VTIMEZONE
BEGIN:VEVENT
DTSTART;TZID=Europe/Berlin:20251011T140000
DTEND;TZID=Europe/Berlin:20251011T173000
DTSTAMP:20260419T161448
CREATED:20250917T125227Z
LAST-MODIFIED:20250917T130111Z
UID:7751-1760191200-1760203800@staging.jalimei.de
SUMMARY:Apfelfest im Kulturzentrum Alte Schule Stotel
DESCRIPTION:Mit einem bunten Rahmenprogramm veranstalten die LandFrauenVereine Stotel und Düring ein Apfelfest mit einem bunten Rahmenprogramm für Groß und Klein.\nSo kann man selber Apfelsaft pressen oder sich einen Vortrag über Igel anhören. Regionale Anbieter präsentieren ihre Produkte\, zB. Häkelware\, Seife\, Reisen\, Schmuck\, Kleidung\, Marmeladen und Gelees sowie Honig und einiges mehr.\nAuch für Speisen und Getränke ist gesorgt und für die Kleinen gibt es eine Hüpfburgund Spiele.
URL:https://staging.jalimei.de/event/apfelfest-in-der-alten-schule-stotel/
LOCATION:Stotel Kulturzentrum Alte Schule\, Fleester Strasse 2\, Loxstedt-Stotel\, 27612
END:VEVENT
END:VCALENDAR