BEGIN:VCALENDAR
VERSION:2.0
PRODID:-//Jalimei - ECPv5.2.1.1//NONSGML v1.0//EN
CALSCALE:GREGORIAN
METHOD:PUBLISH
X-WR-CALNAME:Jalimei
X-ORIGINAL-URL:https://staging.jalimei.de
X-WR-CALDESC:Veranstaltungen für Jalimei
BEGIN:VTIMEZONE
TZID:Europe/Berlin
BEGIN:DAYLIGHT
TZOFFSETFROM:+0100
TZOFFSETTO:+0200
TZNAME:CEST
DTSTART:20190331T010000
END:DAYLIGHT
BEGIN:STANDARD
TZOFFSETFROM:+0200
TZOFFSETTO:+0100
TZNAME:CET
DTSTART:20191027T010000
END:STANDARD
END:VTIMEZONE
BEGIN:VEVENT
DTSTART;TZID=Europe/Berlin:20191006T110000
DTEND;TZID=Europe/Berlin:20191006T170000
DTSTAMP:20260421T133056
CREATED:20181215T121112Z
LAST-MODIFIED:20190530T183058Z
UID:2734-1570359600-1570381200@staging.jalimei.de
SUMMARY:6. Kunsthandwerkermarkt und Erntedank am Logehuus in Bremervörde-Hesedorf
DESCRIPTION:Eine besonders schöne Veranstaltung erwartet die Besucher am Logehuus unter dem Motto „klein aber fein”. Über 50 Aussteller aus den Bereichen Kunsthandwerk\, Kulinarisches und Pflanzen präsentieren ihr Angebot. \nEinige Kunsthandwerker geben einen Einblick in ihre Fertigkeiten.
URL:https://staging.jalimei.de/event/6-kunsthandwerkermarkt-und-erntedank-am-logehuus-in-bremervoerde-hesedorf/
LOCATION:Logehuus Hesedorf\, Auf der Loge 2a\, Bremervörde\, 27432
CATEGORIES:Kunsthandwerkermarkt
END:VEVENT
END:VCALENDAR