BEGIN:VCALENDAR
VERSION:2.0
PRODID:-//Jalimei - ECPv5.2.1.1//NONSGML v1.0//EN
CALSCALE:GREGORIAN
METHOD:PUBLISH
X-WR-CALNAME:Jalimei
X-ORIGINAL-URL:https://staging.jalimei.de
X-WR-CALDESC:Veranstaltungen für Jalimei
BEGIN:VTIMEZONE
TZID:Europe/Berlin
BEGIN:DAYLIGHT
TZOFFSETFROM:+0100
TZOFFSETTO:+0200
TZNAME:CEST
DTSTART:20160327T010000
END:DAYLIGHT
BEGIN:STANDARD
TZOFFSETFROM:+0200
TZOFFSETTO:+0100
TZNAME:CET
DTSTART:20161030T010000
END:STANDARD
END:VTIMEZONE
BEGIN:VEVENT
DTSTART;TZID=Europe/Berlin:20161202T170000
DTEND;TZID=Europe/Berlin:20161202T230000
DTSTAMP:20260422T060113
CREATED:20160612T122919Z
LAST-MODIFIED:20161113T124544Z
UID:815-1480698000-1480719600@staging.jalimei.de
SUMMARY:25. Glitzernacht: Weihnachten bei Jalimei
DESCRIPTION:Liebe Jalimei-Kundin\, \nWeihnachten steht vor der Tür und Du bist herzlich eingeladen\, Dich am 01.12.2016 und am 02.12.2016 auf eine Reise durch die \nzauberhafte Welt des Weihnachtsschmucks entführen zu lassen. Bei kleinen Leckereien und einem Glas Glühfrucht wird Dich wieder \ndie Musikerin eStella Wiegelt mit ihrer Harfe auf die Weihnachtszeit einstimmen. \nNeben den vielen Schmuckstücken von Jalimei präsentiert Katrine Schloßhauer ihre selbstgenähten Accessoires. \n  \nWann: 01. Dezember 2016 von 18.00 bis 22.00 Uhr   \n              02. Dezember 2016 von 17.00 bis 23.00 Uhr \n Wo:     Mühlenstraße 59\, 27616 Beverstedt – Bokel \n  \nOb als Geschenkidee für die Liebsten oder für Dich – Dein individuelles Weihnachtsschmuckstück wartet auf Dich! \nDu kannst nicht persönlich kommen? Dann bestelle Dein Wunschschmuckstück unter www.jalimei.de. \n   \nEin toller Abend\, an dem Du nicht fehlen darfst. Ich freue mich auf Deinen Besuch. \nDeine Meike Masemann
URL:https://staging.jalimei.de/event/25-glitzernacht-weihnachten-bei-jalimei-2/
LOCATION:Beverstedt – Bokel\, Mühlenstr. 59\, Beverstedt - Bokel\, 27616
CATEGORIES:Glitzernacht
ORGANIZER;CN="Jalimei":MAILTO:meike.masemann@staging.jalimei.de
END:VEVENT
END:VCALENDAR