BEGIN:VCALENDAR
VERSION:2.0
PRODID:-//Jalimei - ECPv5.2.1.1//NONSGML v1.0//EN
CALSCALE:GREGORIAN
METHOD:PUBLISH
X-WR-CALNAME:Jalimei
X-ORIGINAL-URL:https://staging.jalimei.de
X-WR-CALDESC:Veranstaltungen für Jalimei
BEGIN:VTIMEZONE
TZID:Europe/Berlin
BEGIN:DAYLIGHT
TZOFFSETFROM:+0100
TZOFFSETTO:+0200
TZNAME:CEST
DTSTART:20160327T010000
END:DAYLIGHT
BEGIN:STANDARD
TZOFFSETFROM:+0200
TZOFFSETTO:+0100
TZNAME:CET
DTSTART:20161030T010000
END:STANDARD
END:VTIMEZONE
BEGIN:VEVENT
DTSTART;TZID=Europe/Berlin:20161119T110000
DTEND;TZID=Europe/Berlin:20161119T180000
DTSTAMP:20260424T095750
CREATED:20160612T121512Z
LAST-MODIFIED:20160731T172744Z
UID:812-1479553200-1479578400@staging.jalimei.de
SUMMARY:Adventszauber der LandFrauen Stendorf
DESCRIPTION:Liebe Jalimei – Kundin\, \nder LandFrauen Verein Stendorf und Umgebung veranstaltet seinen jählichen Adventszauber im Dorfgemeinschaftshaus in Ritterhude-Lesumstotel. Über 40 Aussteller präsentieren sich und ihre Produkte.
URL:https://staging.jalimei.de/event/2016-11-20/
LOCATION:Dorfgemeinschaftshaus in Lesumstotel.\, Schulstraße 21\, Ritterhude\, 27721 
END:VEVENT
END:VCALENDAR