BEGIN:VCALENDAR
VERSION:2.0
PRODID:-//Jalimei - ECPv5.2.1.1//NONSGML v1.0//EN
CALSCALE:GREGORIAN
METHOD:PUBLISH
X-WR-CALNAME:Jalimei
X-ORIGINAL-URL:https://staging.jalimei.de
X-WR-CALDESC:Veranstaltungen für Jalimei
BEGIN:VTIMEZONE
TZID:Europe/Berlin
BEGIN:DAYLIGHT
TZOFFSETFROM:+0100
TZOFFSETTO:+0200
TZNAME:CEST
DTSTART:20240331T010000
END:DAYLIGHT
BEGIN:STANDARD
TZOFFSETFROM:+0200
TZOFFSETTO:+0100
TZNAME:CET
DTSTART:20241027T010000
END:STANDARD
END:VTIMEZONE
BEGIN:VEVENT
DTSTART;TZID=Europe/Berlin:20240804T110000
DTEND;TZID=Europe/Berlin:20240804T180000
DTSTAMP:20260423T104248
CREATED:20190331T172527Z
LAST-MODIFIED:20240730T080449Z
UID:3000-1722769200-1722794400@staging.jalimei.de
SUMMARY:1. Kunsthandwerkermarkt Kloster Hude
DESCRIPTION:Am 04. August 2024 findet wieder der traditionelle Kunsthandwerkermarkt auf dem historischen Gelände der Klosteranlage Hude statt. Viele hervorragende Kunsthandwerker und Designer bieten an diesem Tage ihre künstlerischen Objekte und Produkte an. Die besondere Atmosphäre des Klostergeländes lockt Besucher von nah und fern. \nTermin: 04. August 2024\n11.00 – 18.00 Uhr   \nEintritt 4 €\, Kinder bis 14 Jahre frei \nKostenlose Parkplätze – Hunde erlaubt
URL:https://staging.jalimei.de/event/1-kunsthandwerkermarkt-kloster-hude/
LOCATION:Klosteranlage Hude\, Von-Witzleben-Allee 1a\, Hude\, 27798
CATEGORIES:Kunsthandwerkermarkt
ATTACH;FMTTYPE=image/jpeg:https://staging.jalimei.de/wp-content/uploads/2019/03/IMG_8346.jpg
END:VEVENT
END:VCALENDAR